BEGIN:VCALENDAR
VERSION:2.0
PRODID:-//Springhill Bible Fellowship Church - ECPv6.15.20//NONSGML v1.0//EN
CALSCALE:GREGORIAN
METHOD:PUBLISH
X-WR-CALNAME:Springhill Bible Fellowship Church
X-ORIGINAL-URL:https://www.springhillchurchspokane.org
X-WR-CALDESC:Events for Springhill Bible Fellowship Church
REFRESH-INTERVAL;VALUE=DURATION:PT1H
X-Robots-Tag:noindex
X-PUBLISHED-TTL:PT1H
BEGIN:VTIMEZONE
TZID:America/Los_Angeles
BEGIN:DAYLIGHT
TZOFFSETFROM:-0800
TZOFFSETTO:-0700
TZNAME:PDT
DTSTART:20220313T100000
END:DAYLIGHT
BEGIN:STANDARD
TZOFFSETFROM:-0700
TZOFFSETTO:-0800
TZNAME:PST
DTSTART:20221106T090000
END:STANDARD
BEGIN:DAYLIGHT
TZOFFSETFROM:-0800
TZOFFSETTO:-0700
TZNAME:PDT
DTSTART:20230312T100000
END:DAYLIGHT
BEGIN:STANDARD
TZOFFSETFROM:-0700
TZOFFSETTO:-0800
TZNAME:PST
DTSTART:20231105T090000
END:STANDARD
BEGIN:DAYLIGHT
TZOFFSETFROM:-0800
TZOFFSETTO:-0700
TZNAME:PDT
DTSTART:20240310T100000
END:DAYLIGHT
BEGIN:STANDARD
TZOFFSETFROM:-0700
TZOFFSETTO:-0800
TZNAME:PST
DTSTART:20241103T090000
END:STANDARD
BEGIN:DAYLIGHT
TZOFFSETFROM:-0800
TZOFFSETTO:-0700
TZNAME:PDT
DTSTART:20250309T100000
END:DAYLIGHT
BEGIN:STANDARD
TZOFFSETFROM:-0700
TZOFFSETTO:-0800
TZNAME:PST
DTSTART:20251102T090000
END:STANDARD
END:VTIMEZONE
BEGIN:VEVENT
DTSTART;TZID=America/Los_Angeles:20240307T100000
DTEND;TZID=America/Los_Angeles:20240307T120000
DTSTAMP:20260420T060022
CREATED:20240122T180121Z
LAST-MODIFIED:20240309T172655Z
UID:10000234-1709805600-1709812800@www.springhillchurchspokane.org
SUMMARY:Ladies Bible Study
DESCRIPTION:Ladies\, want to get a deeper understanding of God’s word\, and want to meet other lovely ladies?  Come to our Ladies bible study on Thursday mornings.  Coffee and tea provided.
URL:https://www.springhillchurchspokane.org/event/ladies-bible-study-3/2024-03-07/
LOCATION:SpringHill Bible Fellowship Church\, 8717 N Brooks Rd\, Spokane WA 99224\, WA\, 99224\, United States
ATTACH;FMTTYPE=image/png:https://www.springhillchurchspokane.org/wp-content/uploads/Ladies-Bible-Study-small.png
ORGANIZER;CN="SpringHill Bible Fellowship Church":MAILTO:info@springhillchurchspokane.org
END:VEVENT
BEGIN:VEVENT
DTSTART;TZID=America/Los_Angeles:20240306T180000
DTEND;TZID=America/Los_Angeles:20240306T193000
DTSTAMP:20260420T060022
CREATED:20240309T172511Z
LAST-MODIFIED:20240309T173739Z
UID:10000241-1709748000-1709753400@www.springhillchurchspokane.org
SUMMARY:Adult Bible Study
DESCRIPTION:Come out and get a deeper understanding of God’s word.  All are welcome.
URL:https://www.springhillchurchspokane.org/event/adult-bible-study-3/2024-03-06/
LOCATION:SpringHill Bible Fellowship Church\, 8717 N Brooks Rd\, Spokane WA 99224\, WA\, 99224\, United States
ATTACH;FMTTYPE=image/jpeg:https://www.springhillchurchspokane.org/wp-content/uploads/biblebg.jpeg
ORGANIZER;CN="SpringHill Bible Fellowship Church":MAILTO:info@springhillchurchspokane.org
END:VEVENT
BEGIN:VEVENT
DTSTART;TZID=America/Los_Angeles:20240306T110000
DTEND;TZID=America/Los_Angeles:20240306T130000
DTSTAMP:20260420T060022
CREATED:20231230T004302Z
LAST-MODIFIED:20231230T004425Z
UID:10000210-1709722800-1709730000@www.springhillchurchspokane.org
SUMMARY:Shepherd's Light
DESCRIPTION:Join us for free lunch and fellowship.  Lunch is always tasty and nothing beats the company of our fellow members.  Not a member yet?  Come by anyway.  We’d love to have you there.
URL:https://www.springhillchurchspokane.org/event/shepherds-light/2024-03-06/
LOCATION:SpringHill Bible Fellowship Church\, 8717 N Brooks Rd\, Spokane WA 99224\, WA\, 99224\, United States
ATTACH;FMTTYPE=image/png:https://www.springhillchurchspokane.org/wp-content/uploads/Shepherds-Light-no-date.png
ORGANIZER;CN="SpringHill Bible Fellowship Church":MAILTO:info@springhillchurchspokane.org
END:VEVENT
BEGIN:VEVENT
DTSTART;TZID=America/Los_Angeles:20240302T140000
DTEND;TZID=America/Los_Angeles:20240302T170000
DTSTAMP:20260420T060022
CREATED:20240221T005708Z
LAST-MODIFIED:20240221T005713Z
UID:10000240-1709388000-1709398800@www.springhillchurchspokane.org
SUMMARY:Fondue Party
DESCRIPTION:Ladies’ Chocolate Extravaganza Fondue Party.  Guest speaker will be Sheila Magana\, Pastor’s wife\, mother\, chef\, and former missionary. \nBring your friend\, sister\, neighbor\, daughter and mother.
URL:https://www.springhillchurchspokane.org/event/fondue-party/
LOCATION:SpringHill Bible Fellowship Church\, 8717 N Brooks Rd\, Spokane WA 99224\, WA\, 99224\, United States
ATTACH;FMTTYPE=image/png:https://www.springhillchurchspokane.org/wp-content/uploads/1000001795.png
ORGANIZER;CN="SpringHill Bible Fellowship Church":MAILTO:info@springhillchurchspokane.org
END:VEVENT
BEGIN:VEVENT
DTSTART;TZID=America/Los_Angeles:20240229T100000
DTEND;TZID=America/Los_Angeles:20240229T120000
DTSTAMP:20260420T060022
CREATED:20240122T180121Z
LAST-MODIFIED:20240309T172655Z
UID:10000233-1709200800-1709208000@www.springhillchurchspokane.org
SUMMARY:Ladies Bible Study
DESCRIPTION:Ladies\, want to get a deeper understanding of God’s word\, and want to meet other lovely ladies?  Come to our Ladies bible study on Thursday mornings.  Coffee and tea provided.
URL:https://www.springhillchurchspokane.org/event/ladies-bible-study-3/2024-02-29/
LOCATION:SpringHill Bible Fellowship Church\, 8717 N Brooks Rd\, Spokane WA 99224\, WA\, 99224\, United States
ATTACH;FMTTYPE=image/png:https://www.springhillchurchspokane.org/wp-content/uploads/Ladies-Bible-Study-small.png
ORGANIZER;CN="SpringHill Bible Fellowship Church":MAILTO:info@springhillchurchspokane.org
END:VEVENT
BEGIN:VEVENT
DTSTART;TZID=America/Los_Angeles:20240222T100000
DTEND;TZID=America/Los_Angeles:20240222T120000
DTSTAMP:20260420T060022
CREATED:20240122T180121Z
LAST-MODIFIED:20240309T172655Z
UID:10000232-1708596000-1708603200@www.springhillchurchspokane.org
SUMMARY:Ladies Bible Study
DESCRIPTION:Ladies\, want to get a deeper understanding of God’s word\, and want to meet other lovely ladies?  Come to our Ladies bible study on Thursday mornings.  Coffee and tea provided.
URL:https://www.springhillchurchspokane.org/event/ladies-bible-study-3/2024-02-22/
LOCATION:SpringHill Bible Fellowship Church\, 8717 N Brooks Rd\, Spokane WA 99224\, WA\, 99224\, United States
ATTACH;FMTTYPE=image/png:https://www.springhillchurchspokane.org/wp-content/uploads/Ladies-Bible-Study-small.png
ORGANIZER;CN="SpringHill Bible Fellowship Church":MAILTO:info@springhillchurchspokane.org
END:VEVENT
BEGIN:VEVENT
DTSTART;TZID=America/Los_Angeles:20240217T080000
DTEND;TZID=America/Los_Angeles:20240217T100000
DTSTAMP:20260420T060022
CREATED:20231230T004755Z
LAST-MODIFIED:20231230T004756Z
UID:10000212-1708156800-1708164000@www.springhillchurchspokane.org
SUMMARY:Men's Fellowship Breakfast
DESCRIPTION:Hey men\, come on out and enjoy a free breakfast with us.  Bring your sons too.  All men are welcome.
URL:https://www.springhillchurchspokane.org/event/mens-fellowship-breakfast/2024-02-17/
LOCATION:SpringHill Bible Fellowship Church\, 8717 N Brooks Rd\, Spokane WA 99224\, WA\, 99224\, United States
ATTACH;FMTTYPE=image/png:https://www.springhillchurchspokane.org/wp-content/uploads/MENS-Breakfast-.png
ORGANIZER;CN="SpringHill Bible Fellowship Church":MAILTO:info@springhillchurchspokane.org
END:VEVENT
BEGIN:VEVENT
DTSTART;TZID=America/Los_Angeles:20240215T100000
DTEND;TZID=America/Los_Angeles:20240215T120000
DTSTAMP:20260420T060022
CREATED:20240122T180121Z
LAST-MODIFIED:20240309T172655Z
UID:10000231-1707991200-1707998400@www.springhillchurchspokane.org
SUMMARY:Ladies Bible Study
DESCRIPTION:Ladies\, want to get a deeper understanding of God’s word\, and want to meet other lovely ladies?  Come to our Ladies bible study on Thursday mornings.  Coffee and tea provided.
URL:https://www.springhillchurchspokane.org/event/ladies-bible-study-3/2024-02-15/
LOCATION:SpringHill Bible Fellowship Church\, 8717 N Brooks Rd\, Spokane WA 99224\, WA\, 99224\, United States
ATTACH;FMTTYPE=image/png:https://www.springhillchurchspokane.org/wp-content/uploads/Ladies-Bible-Study-small.png
ORGANIZER;CN="SpringHill Bible Fellowship Church":MAILTO:info@springhillchurchspokane.org
END:VEVENT
BEGIN:VEVENT
DTSTART;TZID=America/Los_Angeles:20240208T100000
DTEND;TZID=America/Los_Angeles:20240208T120000
DTSTAMP:20260420T060022
CREATED:20240122T180121Z
LAST-MODIFIED:20240309T172655Z
UID:10000230-1707386400-1707393600@www.springhillchurchspokane.org
SUMMARY:Ladies Bible Study
DESCRIPTION:Ladies\, want to get a deeper understanding of God’s word\, and want to meet other lovely ladies?  Come to our Ladies bible study on Thursday mornings.  Coffee and tea provided.
URL:https://www.springhillchurchspokane.org/event/ladies-bible-study-3/2024-02-08/
LOCATION:SpringHill Bible Fellowship Church\, 8717 N Brooks Rd\, Spokane WA 99224\, WA\, 99224\, United States
ATTACH;FMTTYPE=image/png:https://www.springhillchurchspokane.org/wp-content/uploads/Ladies-Bible-Study-small.png
ORGANIZER;CN="SpringHill Bible Fellowship Church":MAILTO:info@springhillchurchspokane.org
END:VEVENT
BEGIN:VEVENT
DTSTART;TZID=America/Los_Angeles:20240207T110000
DTEND;TZID=America/Los_Angeles:20240207T130000
DTSTAMP:20260420T060022
CREATED:20231230T004302Z
LAST-MODIFIED:20231230T004425Z
UID:10000209-1707303600-1707310800@www.springhillchurchspokane.org
SUMMARY:Shepherd's Light
DESCRIPTION:Join us for free lunch and fellowship.  Lunch is always tasty and nothing beats the company of our fellow members.  Not a member yet?  Come by anyway.  We’d love to have you there.
URL:https://www.springhillchurchspokane.org/event/shepherds-light/2024-02-07/
LOCATION:SpringHill Bible Fellowship Church\, 8717 N Brooks Rd\, Spokane WA 99224\, WA\, 99224\, United States
ATTACH;FMTTYPE=image/png:https://www.springhillchurchspokane.org/wp-content/uploads/Shepherds-Light-no-date.png
ORGANIZER;CN="SpringHill Bible Fellowship Church":MAILTO:info@springhillchurchspokane.org
END:VEVENT
BEGIN:VEVENT
DTSTART;TZID=America/Los_Angeles:20240201T100000
DTEND;TZID=America/Los_Angeles:20240201T120000
DTSTAMP:20260420T060022
CREATED:20240122T180121Z
LAST-MODIFIED:20240309T172655Z
UID:10000229-1706781600-1706788800@www.springhillchurchspokane.org
SUMMARY:Ladies Bible Study
DESCRIPTION:Ladies\, want to get a deeper understanding of God’s word\, and want to meet other lovely ladies?  Come to our Ladies bible study on Thursday mornings.  Coffee and tea provided.
URL:https://www.springhillchurchspokane.org/event/ladies-bible-study-3/2024-02-01/
LOCATION:SpringHill Bible Fellowship Church\, 8717 N Brooks Rd\, Spokane WA 99224\, WA\, 99224\, United States
ATTACH;FMTTYPE=image/png:https://www.springhillchurchspokane.org/wp-content/uploads/Ladies-Bible-Study-small.png
ORGANIZER;CN="SpringHill Bible Fellowship Church":MAILTO:info@springhillchurchspokane.org
END:VEVENT
BEGIN:VEVENT
DTSTART;TZID=America/Los_Angeles:20240128T103000
DTEND;TZID=America/Los_Angeles:20240128T123000
DTSTAMP:20260420T060022
CREATED:20240122T180604Z
LAST-MODIFIED:20240122T180604Z
UID:10000238-1706437800-1706445000@www.springhillchurchspokane.org
SUMMARY:The Christians' Hope\, part 8
DESCRIPTION:
URL:https://www.springhillchurchspokane.org/event/the-christians-hope-part-8/
LOCATION:SpringHill Bible Fellowship Church\, 8717 N Brooks Rd\, Spokane WA 99224\, WA\, 99224\, United States
ATTACH;FMTTYPE=image/png:https://www.springhillchurchspokane.org/wp-content/uploads/IMAGE-ONLY-Making-our-joy-complete.png
ORGANIZER;CN="SpringHill Bible Fellowship Church":MAILTO:info@springhillchurchspokane.org
END:VEVENT
BEGIN:VEVENT
DTSTART;TZID=America/Los_Angeles:20240125T100000
DTEND;TZID=America/Los_Angeles:20240125T120000
DTSTAMP:20260420T060022
CREATED:20240122T180121Z
LAST-MODIFIED:20240309T172655Z
UID:10000228-1706176800-1706184000@www.springhillchurchspokane.org
SUMMARY:Ladies Bible Study
DESCRIPTION:Ladies\, want to get a deeper understanding of God’s word\, and want to meet other lovely ladies?  Come to our Ladies bible study on Thursday mornings.  Coffee and tea provided.
URL:https://www.springhillchurchspokane.org/event/ladies-bible-study-3/2024-01-25/
LOCATION:SpringHill Bible Fellowship Church\, 8717 N Brooks Rd\, Spokane WA 99224\, WA\, 99224\, United States
ATTACH;FMTTYPE=image/png:https://www.springhillchurchspokane.org/wp-content/uploads/Ladies-Bible-Study-small.png
ORGANIZER;CN="SpringHill Bible Fellowship Church":MAILTO:info@springhillchurchspokane.org
END:VEVENT
BEGIN:VEVENT
DTSTART;TZID=America/Los_Angeles:20240120T080000
DTEND;TZID=America/Los_Angeles:20240120T100000
DTSTAMP:20260420T060022
CREATED:20231230T004755Z
LAST-MODIFIED:20231230T004756Z
UID:10000211-1705737600-1705744800@www.springhillchurchspokane.org
SUMMARY:Men's Fellowship Breakfast
DESCRIPTION:Hey men\, come on out and enjoy a free breakfast with us.  Bring your sons too.  All men are welcome.
URL:https://www.springhillchurchspokane.org/event/mens-fellowship-breakfast/2024-01-20/
LOCATION:SpringHill Bible Fellowship Church\, 8717 N Brooks Rd\, Spokane WA 99224\, WA\, 99224\, United States
ATTACH;FMTTYPE=image/png:https://www.springhillchurchspokane.org/wp-content/uploads/MENS-Breakfast-.png
ORGANIZER;CN="SpringHill Bible Fellowship Church":MAILTO:info@springhillchurchspokane.org
END:VEVENT
BEGIN:VEVENT
DTSTART;TZID=America/Los_Angeles:20240113T180000
DTEND;TZID=America/Los_Angeles:20240113T203000
DTSTAMP:20260420T060022
CREATED:20240106T184958Z
LAST-MODIFIED:20240106T185417Z
UID:10000214-1705168800-1705177800@www.springhillchurchspokane.org
SUMMARY:Free Movie Night
DESCRIPTION:Bring the kids\, grand kids\, even the neighbor kids to see The Star with us at our free movie night.  The movie is free and so are the snacks.  We have a really cool popcorn machine too. \nMovie starts at 6PM.  Doors open at 5:45PM. \n“In Sony Pictures Animation’s THE STAR\, a small but brave donkey named Bo yearns for a life beyond his daily grind at the village mill. One day he finds the courage to break free\, and finally goes on the adventure of his dreams. On his journey\, he teams up with Ruth\, a lovable sheep who has lost her flock and Dave\, a dove with lofty aspirations. Along with three wisecracking camels and some eccentric stable animals\, Bo and his new friends follow the Star and become accidental heroes in the greatest story ever told – the first Christmas.”
URL:https://www.springhillchurchspokane.org/event/free-movie-night-3/
LOCATION:SpringHill Bible Fellowship Church\, 8717 N Brooks Rd\, Spokane WA 99224\, WA\, 99224\, United States
ATTACH;FMTTYPE=image/png:https://www.springhillchurchspokane.org/wp-content/uploads/The-Star-movie-poster.png
ORGANIZER;CN="SpringHill Bible Fellowship Church":MAILTO:info@springhillchurchspokane.org
END:VEVENT
BEGIN:VEVENT
DTSTART;TZID=America/Los_Angeles:20240107T120000
DTEND;TZID=America/Los_Angeles:20240107T140000
DTSTAMP:20260420T060022
CREATED:20240106T194231Z
LAST-MODIFIED:20240106T194231Z
UID:10000215-1704628800-1704636000@www.springhillchurchspokane.org
SUMMARY:Potluck & Family Meeting after service
DESCRIPTION:Church potluck and Family Meeting after service.
URL:https://www.springhillchurchspokane.org/event/potluck-family-meeting-after-service/
LOCATION:SpringHill Bible Fellowship Church\, 8717 N Brooks Rd\, Spokane WA 99224\, WA\, 99224\, United States
ATTACH;FMTTYPE=image/png:https://www.springhillchurchspokane.org/wp-content/uploads/Potluck-Lunch.png
ORGANIZER;CN="SpringHill Bible Fellowship Church":MAILTO:info@springhillchurchspokane.org
END:VEVENT
BEGIN:VEVENT
DTSTART;TZID=America/Los_Angeles:20240103T110000
DTEND;TZID=America/Los_Angeles:20240103T130000
DTSTAMP:20260420T060022
CREATED:20231230T004302Z
LAST-MODIFIED:20231230T004425Z
UID:10000208-1704279600-1704286800@www.springhillchurchspokane.org
SUMMARY:Shepherd's Light
DESCRIPTION:Join us for free lunch and fellowship.  Lunch is always tasty and nothing beats the company of our fellow members.  Not a member yet?  Come by anyway.  We’d love to have you there.
URL:https://www.springhillchurchspokane.org/event/shepherds-light/2024-01-03/
LOCATION:SpringHill Bible Fellowship Church\, 8717 N Brooks Rd\, Spokane WA 99224\, WA\, 99224\, United States
ATTACH;FMTTYPE=image/png:https://www.springhillchurchspokane.org/wp-content/uploads/Shepherds-Light-no-date.png
ORGANIZER;CN="SpringHill Bible Fellowship Church":MAILTO:info@springhillchurchspokane.org
END:VEVENT
BEGIN:VEVENT
DTSTART;TZID=America/Los_Angeles:20231231T160000
DTEND;TZID=America/Los_Angeles:20231231T190000
DTSTAMP:20260420T060022
CREATED:20231205T004621Z
LAST-MODIFIED:20231215T012738Z
UID:10000206-1704038400-1704049200@www.springhillchurchspokane.org
SUMMARY:New Year's Eve Game Night
DESCRIPTION:Bring your favorite board games & snacks and join in the fun with us for an early game night at our church.
URL:https://www.springhillchurchspokane.org/event/new-years-eve-game-night/
LOCATION:SpringHill Bible Fellowship Church\, 8717 N Brooks Rd\, Spokane WA 99224\, WA\, 99224\, United States
ATTACH;FMTTYPE=image/png:https://www.springhillchurchspokane.org/wp-content/uploads/Game-Night.png
ORGANIZER;CN="SpringHill Bible Fellowship Church":MAILTO:info@springhillchurchspokane.org
END:VEVENT
BEGIN:VEVENT
DTSTART;TZID=America/Los_Angeles:20231224T103000
DTEND;TZID=America/Los_Angeles:20231224T130000
DTSTAMP:20260420T060022
CREATED:20231205T003048Z
LAST-MODIFIED:20231205T003149Z
UID:10000204-1703413800-1703422800@www.springhillchurchspokane.org
SUMMARY:Christmas Eve Worship Service
DESCRIPTION:
URL:https://www.springhillchurchspokane.org/event/christmas-eve-worship-service/
LOCATION:SpringHill Bible Fellowship Church\, 8717 N Brooks Rd\, Spokane WA 99224\, WA\, 99224\, United States
ATTACH;FMTTYPE=image/png:https://www.springhillchurchspokane.org/wp-content/uploads/Christmas-Eve-Service.png
ORGANIZER;CN="SpringHill Bible Fellowship Church":MAILTO:info@springhillchurchspokane.org
END:VEVENT
BEGIN:VEVENT
DTSTART;TZID=America/Los_Angeles:20231221T100000
DTEND;TZID=America/Los_Angeles:20231221T113000
DTSTAMP:20260420T060022
CREATED:20231215T012531Z
LAST-MODIFIED:20231215T012531Z
UID:10000207-1703152800-1703158200@www.springhillchurchspokane.org
SUMMARY:Ladies Bible Study
DESCRIPTION:No study today. White elephant gift exchange. Bring an inexpensive gift and a snack to share.
URL:https://www.springhillchurchspokane.org/event/ladies-bible-study/
LOCATION:WA
ORGANIZER;CN="SpringHill Bible Fellowship Church":MAILTO:info@springhillchurchspokane.org
END:VEVENT
BEGIN:VEVENT
DTSTART;TZID=America/Los_Angeles:20231220T180000
DTEND;TZID=America/Los_Angeles:20231220T190000
DTSTAMP:20260420T060022
CREATED:20231215T012120Z
LAST-MODIFIED:20231215T012120Z
UID:10000040-1703095200-1703098800@www.springhillchurchspokane.org
SUMMARY:Adult Bible Study
DESCRIPTION:Get a deeper understanding of what God wants us to learn. We go deeper into interpretation and meaning than can be done on Sundays.  Fellowship with others who seek a deeper understanding. \nAll are welcome to our adult bible study.  Click here to register.  Registration is not required but encouraged.
URL:https://www.springhillchurchspokane.org/event/adult-bible-study-2-2-2/
LOCATION:SpringHill Bible Fellowship Church\, 8717 N Brooks Rd\, Spokane WA 99224\, WA\, 99224\, United States
ATTACH;FMTTYPE=image/jpeg:https://www.springhillchurchspokane.org/wp-content/uploads/biblebg.jpeg
ORGANIZER;CN="SpringHill Bible Fellowship Church":MAILTO:info@springhillchurchspokane.org
END:VEVENT
BEGIN:VEVENT
DTSTART;TZID=America/Los_Angeles:20231217T100000
DTEND;TZID=America/Los_Angeles:20231217T120000
DTSTAMP:20260420T060022
CREATED:20230413T023429Z
LAST-MODIFIED:20230413T023829Z
UID:10000179-1702807200-1702814400@www.springhillchurchspokane.org
SUMMARY:Sunday worship service
DESCRIPTION:Join us for worshiping our Lord.  Fellowship starts at 10AM.  Service starts at 10:30AM.  All are welcome.
URL:https://www.springhillchurchspokane.org/event/sunday-worship-service/2023-12-17/
LOCATION:WA
ATTACH;FMTTYPE=image/jpeg:https://www.springhillchurchspokane.org/wp-content/uploads/worship.jpg
END:VEVENT
BEGIN:VEVENT
DTSTART;TZID=America/Los_Angeles:20231216T080000
DTEND;TZID=America/Los_Angeles:20231216T100000
DTSTAMP:20260420T060022
CREATED:20231205T003913Z
LAST-MODIFIED:20231205T003913Z
UID:10000205-1702713600-1702720800@www.springhillchurchspokane.org
SUMMARY:December Men's Fellowship Breakfast
DESCRIPTION:Men\, come join us for an awesome breakfast and manly fellowship.  We will feed your body and your soul. Bring your sons too.
URL:https://www.springhillchurchspokane.org/event/december-mens-fellowship-breakfast/
LOCATION:SpringHill Bible Fellowship Church\, 8717 N Brooks Rd\, Spokane WA 99224\, WA\, 99224\, United States
ATTACH;FMTTYPE=image/png:https://www.springhillchurchspokane.org/wp-content/uploads/MENS-Breakfast-.png
ORGANIZER;CN="SpringHill Bible Fellowship Church":MAILTO:info@springhillchurchspokane.org
END:VEVENT
BEGIN:VEVENT
DTSTART;TZID=America/Los_Angeles:20231210T100000
DTEND;TZID=America/Los_Angeles:20231210T120000
DTSTAMP:20260420T060022
CREATED:20230413T023429Z
LAST-MODIFIED:20230413T023829Z
UID:10000178-1702202400-1702209600@www.springhillchurchspokane.org
SUMMARY:Sunday worship service
DESCRIPTION:Join us for worshiping our Lord.  Fellowship starts at 10AM.  Service starts at 10:30AM.  All are welcome.
URL:https://www.springhillchurchspokane.org/event/sunday-worship-service/2023-12-10/
LOCATION:WA
ATTACH;FMTTYPE=image/jpeg:https://www.springhillchurchspokane.org/wp-content/uploads/worship.jpg
END:VEVENT
BEGIN:VEVENT
DTSTART;TZID=America/Los_Angeles:20231207T100000
DTEND;TZID=America/Los_Angeles:20231207T110000
DTSTAMP:20260420T060022
CREATED:20230413T021745Z
LAST-MODIFIED:20230418T033801Z
UID:10000126-1701943200-1701946800@www.springhillchurchspokane.org
SUMMARY:Ladies Bible Study
DESCRIPTION:Get a deeper understanding of what God wants us to learn. We go deeper into interpretation and meaning than can be done on Sundays.  Fellowship with others who seek a deeper understanding. \nAll ladies are welcome to join in our Thursday morning bible study.  Click here to register.  Registration is not required but encouraged. \n 
URL:https://www.springhillchurchspokane.org/event/ladies-bible-study-2/2023-12-07/
LOCATION:SpringHill Bible Fellowship Church\, 8717 N Brooks Rd\, Spokane WA 99224\, WA\, 99224\, United States
ATTACH;FMTTYPE=image/png:https://www.springhillchurchspokane.org/wp-content/uploads/Ladies-Bible-Study-small.png
ORGANIZER;CN="SpringHill Bible Fellowship Church":MAILTO:info@springhillchurchspokane.org
END:VEVENT
BEGIN:VEVENT
DTSTART;TZID=America/Los_Angeles:20231206T180000
DTEND;TZID=America/Los_Angeles:20231206T190000
DTSTAMP:20260420T060022
CREATED:20231205T003647Z
LAST-MODIFIED:20231205T003648Z
UID:10000039-1701885600-1701889200@www.springhillchurchspokane.org
SUMMARY:Adult Bible Study
DESCRIPTION:Get a deeper understanding of what God wants us to learn. We go deeper into interpretation and meaning than can be done on Sundays.  Fellowship with others who seek a deeper understanding. \nAll are welcome to our adult bible study.  Click here to register.  Registration is not required but encouraged.
URL:https://www.springhillchurchspokane.org/event/adult-bible-study-2-2/2023-12-06/
LOCATION:SpringHill Bible Fellowship Church\, 8717 N Brooks Rd\, Spokane WA 99224\, WA\, 99224\, United States
ATTACH;FMTTYPE=image/jpeg:https://www.springhillchurchspokane.org/wp-content/uploads/biblebg.jpeg
ORGANIZER;CN="SpringHill Bible Fellowship Church":MAILTO:info@springhillchurchspokane.org
END:VEVENT
BEGIN:VEVENT
DTSTART;TZID=America/Los_Angeles:20231203T100000
DTEND;TZID=America/Los_Angeles:20231203T120000
DTSTAMP:20260420T060022
CREATED:20230413T023429Z
LAST-MODIFIED:20230413T023829Z
UID:10000177-1701597600-1701604800@www.springhillchurchspokane.org
SUMMARY:Sunday worship service
DESCRIPTION:Join us for worshiping our Lord.  Fellowship starts at 10AM.  Service starts at 10:30AM.  All are welcome.
URL:https://www.springhillchurchspokane.org/event/sunday-worship-service/2023-12-03/
LOCATION:WA
ATTACH;FMTTYPE=image/jpeg:https://www.springhillchurchspokane.org/wp-content/uploads/worship.jpg
END:VEVENT
BEGIN:VEVENT
DTSTART;TZID=America/Los_Angeles:20231130T100000
DTEND;TZID=America/Los_Angeles:20231130T110000
DTSTAMP:20260420T060022
CREATED:20230413T021745Z
LAST-MODIFIED:20230418T033801Z
UID:10000125-1701338400-1701342000@www.springhillchurchspokane.org
SUMMARY:Ladies Bible Study
DESCRIPTION:Get a deeper understanding of what God wants us to learn. We go deeper into interpretation and meaning than can be done on Sundays.  Fellowship with others who seek a deeper understanding. \nAll ladies are welcome to join in our Thursday morning bible study.  Click here to register.  Registration is not required but encouraged. \n 
URL:https://www.springhillchurchspokane.org/event/ladies-bible-study-2/2023-11-30/
LOCATION:SpringHill Bible Fellowship Church\, 8717 N Brooks Rd\, Spokane WA 99224\, WA\, 99224\, United States
ATTACH;FMTTYPE=image/png:https://www.springhillchurchspokane.org/wp-content/uploads/Ladies-Bible-Study-small.png
ORGANIZER;CN="SpringHill Bible Fellowship Church":MAILTO:info@springhillchurchspokane.org
END:VEVENT
BEGIN:VEVENT
DTSTART;TZID=America/Los_Angeles:20231129T180000
DTEND;TZID=America/Los_Angeles:20231129T190000
DTSTAMP:20260420T060022
CREATED:20230413T021309Z
LAST-MODIFIED:20230418T033553Z
UID:10000038-1701280800-1701284400@www.springhillchurchspokane.org
SUMMARY:Adult Bible Study
DESCRIPTION:Get a deeper understanding of what God wants us to learn. We go deeper into interpretation and meaning than can be done on Sundays.  Fellowship with others who seek a deeper understanding. \nAll are welcome to our adult bible study.  Click here to register.  Registration is not required but encouraged.
URL:https://www.springhillchurchspokane.org/event/adult-bible-study-2/2023-11-29/
LOCATION:SpringHill Bible Fellowship Church\, 8717 N Brooks Rd\, Spokane WA 99224\, WA\, 99224\, United States
ATTACH;FMTTYPE=image/jpeg:https://www.springhillchurchspokane.org/wp-content/uploads/biblebg.jpeg
ORGANIZER;CN="SpringHill Bible Fellowship Church":MAILTO:info@springhillchurchspokane.org
END:VEVENT
BEGIN:VEVENT
DTSTART;TZID=America/Los_Angeles:20231126T100000
DTEND;TZID=America/Los_Angeles:20231126T120000
DTSTAMP:20260420T060022
CREATED:20230413T023429Z
LAST-MODIFIED:20230413T023829Z
UID:10000176-1700992800-1701000000@www.springhillchurchspokane.org
SUMMARY:Sunday worship service
DESCRIPTION:Join us for worshiping our Lord.  Fellowship starts at 10AM.  Service starts at 10:30AM.  All are welcome.
URL:https://www.springhillchurchspokane.org/event/sunday-worship-service/2023-11-26/
LOCATION:WA
ATTACH;FMTTYPE=image/jpeg:https://www.springhillchurchspokane.org/wp-content/uploads/worship.jpg
END:VEVENT
END:VCALENDAR